BEGIN:VCALENDAR
VERSION:2.0
PRODID:-//Amnestygroep - ECPv6.15.20//NONSGML v1.0//EN
CALSCALE:GREGORIAN
METHOD:PUBLISH
X-WR-CALNAME:Amnestygroep
X-ORIGINAL-URL:https://vlietstreek.amnesty.nl
X-WR-CALDESC:Evenementen voor Amnestygroep
REFRESH-INTERVAL;VALUE=DURATION:PT1H
X-Robots-Tag:noindex
X-PUBLISHED-TTL:PT1H
BEGIN:VTIMEZONE
TZID:Europe/Amsterdam
BEGIN:DAYLIGHT
TZOFFSETFROM:+0100
TZOFFSETTO:+0200
TZNAME:CEST
DTSTART:20250330T010000
END:DAYLIGHT
BEGIN:STANDARD
TZOFFSETFROM:+0200
TZOFFSETTO:+0100
TZNAME:CET
DTSTART:20251026T010000
END:STANDARD
BEGIN:DAYLIGHT
TZOFFSETFROM:+0100
TZOFFSETTO:+0200
TZNAME:CEST
DTSTART:20260329T010000
END:DAYLIGHT
BEGIN:STANDARD
TZOFFSETFROM:+0200
TZOFFSETTO:+0100
TZNAME:CET
DTSTART:20261025T010000
END:STANDARD
BEGIN:DAYLIGHT
TZOFFSETFROM:+0100
TZOFFSETTO:+0200
TZNAME:CEST
DTSTART:20270328T010000
END:DAYLIGHT
BEGIN:STANDARD
TZOFFSETFROM:+0200
TZOFFSETTO:+0100
TZNAME:CET
DTSTART:20271031T010000
END:STANDARD
END:VTIMEZONE
BEGIN:VEVENT
DTSTART;TZID=Europe/Amsterdam:20260422T110000
DTEND;TZID=Europe/Amsterdam:20260422T130000
DTSTAMP:20260422T013057
CREATED:20260218T132502Z
LAST-MODIFIED:20260218T133944Z
UID:6563-1776855600-1776862800@vlietstreek.amnesty.nl
SUMMARY:Schrijfochtend Amnesty Vlietstreek Rijswijk (elke 4e woensdag van de maand)
DESCRIPTION:Samen met Museum Rijswijk organiseert Amnesty Vlietstreek elke vierde woensdag van de maand van 11.00 uur tot 13.00 uur een schrijfochtend. Help mee om onrecht te bestrijden\, schrijf mee in Museum Rijswijk met Amnesty International. De schrijfochtend is op elke vierde woensdag van de maand in Museum Rijswijk in de Herenstraat. In het Museum kun je meeschrijven. Voorbeeldbrieven\, papier en pen zijn aanwezig. Je brief kan worden gepost. Je kan zo binnenlopen zonder je aan te melden. \n“Wereldwijd worden mensen onterecht gevangengezet of bedreigd. Zij komen op voor hun rechten en die van anderen”\, vertelt Jeanette Ridder van Amnesty Vlietstreek.  Wij gaan in Rijswijk maandelijks brieven schrijven aan overheden om hen vrij te krijgen\, martelingen en doodstraf te stoppen. Bij de schrijfochtenden komen thema’s aan bod zoals de doodstraf\, vrouwenrechten\, LHBT-rechten en mensenrechtenverdedigers. Ook zijn er regelmatig schrijfacties voor mensen die al jarenlang vastzitten en waarvoor het nodig blijft om aandacht op hun zaak te vestigen.
URL:https://vlietstreek.amnesty.nl/event/schrijfochtend-amnesty-vlietstreek-rijswijk-elke-4e-woensdag-van-de-maand/
LOCATION:Museum Rijswijk\, Herenstraat 67\, Rijswijk\, 2282 BR
END:VEVENT
END:VCALENDAR